Workbook
Name Razčlenjevalnik_Obcina: #N/A
Name Razčlenjevalnik_Regija: #N/A
Name Razčlenjevalnik_Spode: #N/A

Sheet kriteriji izločitve
A2: Datum: 28. 10. 2026
A4: KRITERIJI IZLOČITVE PO METODOLOGIJI MINISTRSTVA ZA GOSPODARSTVO, DELO IN ŠPORT
A6: 1. | B6: manj kot 2 zaposlena v 2025 (pri samostojnih podjetnikih se upošteva nosilec dejavnosti + 1 zaposlen)
A7: 2. | B7: čisti prihodki od prodaje v letu 2025 < 195.000 EUR1
A8: 3. | B8: izguba na substanci (negativna dodana vrednost) v 2025
A9: 4. | B9: ni podatkov za 2021
A10: 5. | B10: podjetja, ki niso poslovala 12 mesecev v 2021 ali 2025
A11: 6. | B11: podjetja, ki so imela v letu 2025 manj zaposlenih kot v letu 2021
A12: 7. | B12: podjetja, ki niso dosegla dvojne rasti čistih prihodkov v gospodarstvu v letu 2025 glede na leto 2021
A13: 8. | B13: podjetja > 50 % v državni lasti
A14: 9. | B14: Podjetja v dejavnostih M,P,T,U,V v letu 2025:
B15: M - poslovanje z nepremičninami
B16: P - dejavnost javne uprave in obrambe, dejavnost obvezne socialne varnosti
B17: T - druge dejavnosti
B18: U - dejavnost gospodinjstev z zaposlenim hišnim osebjem ter proizvodnja za lastno rabo
B19: V - dejavnost eksteritorialnih organizacij in teles
A20: 10. | B20: podjetja, ki so v obdobju 2021 do 2025 kumulativno izkazala čisto izgubo (pri samostojnih podjetnikih negativni poslovni izid)
A21: 11. | B21: podjetja v 2025, ki so imela v letu 2021 izgubo na substanci ali dodano vrednost (DV) = 0
A22: 12. | B22: podjetja, pri katerih je DV v letu 2025 < DV v letu 2021
A23: 13. | B23: podjetja, ki so imela v letu 2025 DV na zaposlenega < 39.500 EUR2
A24: 14. | B24: podjetja, ki so imela v letu 2025 negativen kapital/podjetnikov kapital
A25: 1 | B25: kriterij usklajen z letno rastjo čistih prihodkov od prodaje
A26: 2 | B26: kriterij usklajen z letno rastjo DV na zaposlenega

Sheet HRP po obdobjih
A2: ='kriteriji izločitve'!A2 -> Datum: 28. 10. 2026
A4: ŠTEVILO HITRORASTOČIH PODJETIJ PO POSAMEZNIH OBDOBJIH
B6: Obdobje
B7: 2007-2011 | C7: 2008–2012 | D7: 2009-2013 | E7: 2010-2014 | F7: 2011-2015 | G7: 2012-2016 | H7: 2013-2017 | I7: 2014-2018 | J7: 2015-2019 | K7: 2016-2020 | L7: 2017-2021 | M7: 2018-2022 | N7: 2019-2023 | O7: 2020-2024 | P7: 2021-2025
A8: Število podjetij | B8: 131494 | C8: 132619 | D8: 131799 | E8: 131681 | F8: 128030 | G8: 124490 | H8: 122942 | I8: 122088 | J8: 120459 | K8: 119453 | L8: 119632 | M8: 119710 | N8: 122280 | O8: 123821 | P8: 125917
A9: HRP | B9: 4380 | C9: 3725 | D9: 3867 | E9: 4709 | F9: 5405 | G9: 6150 | H9: 5366 | I9: 5347 | J9: 5905 | K9: 6930 | L9: 4145 | M9: 3074 | N9: 3277 | O9: 3369 | P9: 4797
A10: HRP / št. podjetij, v % | B10: 3.3 | C10: 2.8 | D10: 2.9 | E10: 3.6 | F10: 4.2 | G10: 4.9 | H10: 4.4 | I10: 4.4 | J10: 4.9 | K10: 5.8 | L10: 3.5 | M10: 2.6 | N10: 2.6799149 | O10: 2.7208632 | P10: 3.8096524

Sheet HRP po velikosti
A2: ='kriteriji izločitve'!A2 -> Datum: 28. 10. 2026
A4: ŠTEVILO HITRO RASTOČIH PODJETIJ V OBDOBJU 2021-2025 PO VELIKOSTI
A6: velikost | B6: število podjetij | C6: HRP | E6: HRP / št. podjetij v %
C7: število | D7: delež v %
A8: MIKRO | B8: 113225 | C8: 2234 | D8: 46.570773 | E8: 1.9730625
A9: MAJHNA | B9: 11094 | C9: 2190 | D9: 45.653533 | E9: 19.7404
A10: SREDNJA | B10: 1269 | C10: 296 | D10: 6.1705232 | E10: 23.325453
A11: VELIKA | B11: 329 | C11: 77 | D11: 1.6051699 | E11: 23.404255
A12: SKUPAJ | B12: 125917 | C12: 4797 | D12: 100 | E12: 3.8096524

Sheet HRP po regijah
A2: ='kriteriji izločitve'!A2 -> Datum: 28. 10. 2026
A4: ŠTEVILO HITRO RASTOČIH PODJETIJ V OBDOBJU 2021-2025 PO REGIJAH
A6: regija | B6: število podjetij | C6: HRP | E6: HRP / št. podjetij v %
C7: število | D7: delež v %
A8: POMURSKA | B8: 4316 | C8: 155 | D8: 3.2311862 | E8: 3.5912882
A9: PODRAVSKA | B9: 17903 | C9: 654 | D9: 13.633521 | E9: 3.653019
A10: KOROŠKA | B10: 3155 | C10: 137 | D10: 2.8559516 | E10: 4.3423138
A11: SAVINJSKA | B11: 14727 | C11: 540 | D11: 11.257036 | E11: 3.6667346
A12: ZASAVSKA | B12: 2292 | C12: 70 | D12: 1.4592454 | E12: 3.0541012
A13: POSAVSKA | B13: 3619 | C13: 137 | D13: 2.8559516 | E13: 3.7855761
A14: JUGOVZHODNA SLOVENIJA | B14: 6472 | C14: 211 | D14: 4.3985824 | E14: 3.2601978
A15: OSREDNJESLOVENSKA | B15: 44793 | C15: 1841 | D15: 38.378153 | E15: 4.1100172
A16: GORENJSKA | B16: 11400 | C16: 426 | D16: 8.8805503 | E16: 3.7368421
A17: PRIMORSKO-NOTRANJSKA | B17: 2599 | C17: 80 | D17: 1.667709 | E17: 3.078107
A18: GORIŠKA | B18: 6398 | C18: 253 | D18: 5.2741297 | E18: 3.9543607
A19: OBALNO-KRAŠKA | B19: 8243 | C19: 293 | D19: 6.1079842 | E19: 3.5545311
A20: SKUPAJ | B20: 125917 | C20: 4797 | D20: 100 | E20: 3.8096524

Sheet HRP po pravno org. obliki
A2: ='kriteriji izločitve'!A2 -> Datum: 28. 10. 2026
A4: ŠTEVILO HITRO RASTOČIH PODJETIJ V OBDOBJU 2021-2025 PO PRAVNO-ORGANIZACIJSKI OBLIKI
A6: pravno-organizacijska oblika | B6: število podjetij | C6: HRP | E6: HRP / št. podjetij v %
C7: število | D7: delež v %
A8: Družba z neomejeno odgovornostjo d.n.o. | B8: 253 | C8: 4 | D8: 0.083385449 | E8: 1.5810277
A9: Komanditna družba k.d. | B9: 141 | C9: 2 | D9: 0.041692725 | E9: 1.4184397
A10: Družba z omejeno odgovornostjo d.o.o. | B10: 73195 | C10: 4232 | D10: 88.221805 | E10: 5.7818157
A11: Delniška družba d.d. | B11: 265 | C11: 32 | D11: 0.66708359 | E11: 12.075472
A12: Gospodarsko interesno združenje GIZ | B12: 103 | C12: 1 | D12: 0.020846362 | E12: 0.97087379
A13: Evropska delniška družba SE | B13: 1 | C13: - | D13: - | E13: -
A14: Evropsko gospodarsko interesno združenje EGIZ | B14: 2 | C14: - | D14: - | E14: -
A15: Podružnica tujega podjetja | B15: 324 | C15: 7 | D15: 0.14592454 | E15: 2.1604938
A16: Samostojni podjetnik posameznik s.p. | B16: 51623 | C16: 517 | D16: 10.777569 | E16: 1.0014916
A17: Sklad | B17: 1 | C17: - | D17: - | E17: -
A18: Javni gospodarski zavod | B18: 5 | C18: 2 | D18: 0.041692725 | E18: 40
A19: Zavod | B19: 4 | C19: - | D19: - | E19: -
A20: SKUPAJ | B20: 125917 | C20: 4797 | D20: 100 | E20: 3.8096524

Sheet HRP po dejavnosti
A2: ='kriteriji izločitve'!A2 -> Datum: 28. 10. 2026
A4: ŠTEVILO HITRO RASTOČIH PODJETIJ V OBDOBJU 2021-2025 PO PODROČJIH DEJAVNOSTI
A6: področje dejavnosti | C6: število podjetij | D6: HRP | F6: HRP / št. podjetij v %
D7: število | E7: delež v %
A8: A | B8: KMETIJSTVO IN LOV, GOZDARSTVO, RIBIŠTVO | C8: 1188 | D8: 29 | E8: 0.60454451 | F8: 2.4410774
A9: B | B9: RUDARSTVO | C9: 86 | D9: 9 | E9: 0.18761726 | F9: 10.465116
A10: C | B10: PREDELOVALNE DEJAVNOSTI | C10: 15294 | D10: 716 | E10: 14.925995 | F10: 4.6815745
A11: D | B11: OSKRBA Z ELEKTRIČNO ENERGIJO, PLINOM, PARO IN HLADNIM ZRAKOM | C11: 913 | D11: 12 | E11: 0.25015635 | F11: 1.3143483
A12: E | B12: OSKRBA Z VODO, RAVNANJE Z ODPLAKAMI IN ODPADKI, SANIRANJE OKOLJA | C12: 359 | D12: 28 | E12: 0.58369814 | F12: 7.7994429
A13: F | B13: GRADBENIŠTVO | C13: 19790 | D13: 661 | E13: 13.779445 | F13: 3.3400707
A14: G | B14: TRGOVINA | C14: 19718 | D14: 796 | E14: 16.593704 | F14: 4.0369206
A15: H | B15: PREVOZ IN SKLADIŠČENJE | C15: 7385 | D15: 581 | E15: 12.111737 | F15: 7.8672986
A16: I | B16: NASTANITVENE IN GOSTINSKE DEJAVNOSTI | C16: 8414 | D16: 360 | E16: 7.5046904 | F16: 4.2785833
A17: J | B17: ZALOŽNIŠTVO, RADIODIFUZIJA TER PRODUKCIJA IN DISTRIBUCIJA VSEBIN | C17: 1392 | D17: 32 | E17: 0.66708359 | F17: 2.2988506
A18: K | B18: DEJAVNOSTI V ZVEZI S TELEKOMUNIKACIJAMI, RAČUNALNIŠKIM PROGRAMIRANJEM, SVETOVANJEM, RAČUNALNIŠKO INFRASTRUKTURO IN DRUGIMI INFORMACIJSKIMI STORITVAMI | C18: 4345 | D18: 269 | E18: 5.6076715 | F18: 6.1910242
A19: L | B19: FINANČNE IN ZAVAROVALNIŠKE DEJAVNOSTI | C19: 1874 | D19: 66 | E19: 1.3758599 | F19: 3.5218783
A20: M | B20: POSLOVANJE Z NEPREMIČNINAMI | C20: 5337 | D20: - | E20: - | F20: -
A21: N | B21: STROKOVNE, ZNANSTVENE IN TEHNIČNE DEJAVNOSTI | C21: 19250 | D21: 769 | E21: 16.030853 | F21: 3.9948052
A22: O | B22: DRUGE RAZNOVRSTNE POSLOVNE DEJAVNOSTI | C22: 4891 | D22: 196 | E22: 4.085887 | F22: 4.0073605
A23: P | B23: DEJAVNOST JAVNE UPRAVE IN OBRAMBE, DEJAVNOST OBVEZNE SOCIALNE VARNOSTI | C23: 28 | D23: - | E23: - | F23: -
A24: Q | B24: IZOBRAŽEVANJE | C24: 2106 | D24: 37 | E24: 0.77131541 | F24: 1.7568851
A25: R | B25: ZDRAVSTVO IN SOCIALNO VARSTVO | C25: 2204 | D25: 181 | E25: 3.7731916 | F25: 8.2123412
A26: S | B26: KULTURNE, ŠPORTNE IN REKREACIJSKE DEJAVNOSTI | C26: 2124 | D26: 55 | E26: 1.1465499 | F26: 2.5894539
A27: T | B27: DRUGE DEJAVNOSTI | C27: 9217 | D27: - | E27: - | F27: -
A28: U | B28: DEJAVNOST GOSPODINJSTEV Z ZAPOSLENIM HIŠNIM OSEBJEM TER PROIZVODNJA ZA LASTNO RABO | C28: 2 | D28: - | E28: - | F28: -
A29: V | B29: DEJAVNOST EKSTERITORIALNIH ORGANIZACIJ IN TELES | C29: - | D29: - | E29: - | F29: -
B30: SKUPAJ | C30: 125917 | D30: 4797 | E30: 100 | F30: 3.8096524

Sheet HRP po letu vpisa
A2: ='kriteriji izločitve'!A2 -> Datum: 28. 10. 2026
A4: ŠTEVILO HITRO RASTOČIH PODJETIJ V OBDOBJU 2021-2025 PO LETU VPISA V SODNI/POSLOVNI REGISTER
A6: leto | B6: število podjetij | C6: HRP | E6: HRP / št. podjetij v %
C7: število | D7: delež v %
A8: pred letom 1990 | B8: 1135 | C8: 74 | D8: 1.5426308 | E8: 6.5198238
A9: 1990 | B9: 3314 | C9: 238 | D9: 4.9614342 | E9: 7.1816536
A10: 1991 | B10: 2014 | C10: 132 | D10: 2.7517198 | E10: 6.5541212
A11: 1992 | B11: 3234 | C11: 181 | D11: 3.7731916 | E11: 5.5967842
A12: 1993 | B12: 2510 | C12: 157 | D12: 3.2728789 | E12: 6.2549801
A13: 1994 | B13: 3089 | C13: 94 | D13: 1.9595581 | E13: 3.043056
A14: 1995 | B14: 1547 | C14: 57 | D14: 1.1882427 | E14: 3.6845507
A15: 1996 | B15: 1366 | C15: 64 | D15: 1.3341672 | E15: 4.6852123
A16: 1997 | B16: 1126 | C16: 43 | D16: 0.89639358 | E16: 3.8188277
A17: 1998 | B17: 1176 | C17: 60 | D17: 1.2507817 | E17: 5.1020408
A18: 1999 | B18: 1165 | C18: 57 | D18: 1.1882427 | E18: 4.8927039
A19: 2000 | B19: 1318 | C19: 67 | D19: 1.3967063 | E19: 5.0834598
A20: 2001 | B20: 1494 | C20: 81 | D20: 1.6885553 | E20: 5.4216867
... A40: 2021 | B40: 5066 | C40: 16 | D40: 0.3335418 | E40: 0.31583103
A41: 2022 | B41: 5688 | C41: - | D41: - | E41: -
A42: 2023 | B42: 6316 | C42: - | D42: - | E42: -
A43: 2024 | B43: 6475 | C43: - | D43: - | E43: -
A44: 2025 | B44: 7316 | C44: - | D44: - | E44: -
A45: SKUPAJ | B45: 125917 | C45: 4797 | D45: 100 | E45: 3.8096524

Sheet HRP po občinah
A2: ='kriteriji izločitve'!A2 -> Datum: 28. 10. 2026
A4: ŠTEVILO HITRO RASTOČIH PODJETIJ V OBDOBJU 2021-2025 PO OBČINAH
A6: zap. št | B6: Občine | C6: Število subjektov | D6: HRP | F6: HRP / št.subjektov v %
D7: Število | E7: Delež v %
A8: 1 | B8: AJDOVŠČINA | C8: 1029 | D8: 44 | E8: 0.91723994 | F8: 4.2759961
A9: 2 | B9: BELTINCI | C9: 268 | D9: 10 | E9: 0.20846362 | F9: 3.7313433
A10: 3 | B10: BLED | C10: 593 | D10: 33 | E10: 0.68792996 | F10: 5.5649241
A11: 4 | B11: BOHINJ | C11: 344 | D11: 17 | E11: 0.35438816 | F11: 4.9418605
A12: 5 | B12: BOROVNICA | C12: 199 | D12: 6 | E12: 0.12507817 | F12: 3.0150754
A13: 6 | B13: BOVEC | C13: 205 | D13: 13 | E13: 0.27100271 | F13: 6.3414634
A14: 7 | B14: BRDA | C14: 219 | D14: 9 | E14: 0.18761726 | F14: 4.109589
A15: 8 | B15: BREZOVICA | C15: 836 | D15: 37 | E15: 0.77131541 | F15: 4.4258373
A16: 9 | B16: BREŽICE | C16: 1224 | D16: 48 | E16: 1.0006254 | F16: 3.9215686
A17: 10 | B17: TIŠINA | C17: 113 | D17: 3 | E17: 0.062539087 | F17: 2.6548673
A18: 11 | B18: CELJE | C18: 3874 | D18: 157 | E18: 3.2728789 | F18: 4.0526588
A19: 12 | B19: CERKLJE NA GORENJSKEM | C19: 560 | D19: 16 | E19: 0.3335418 | F19: 2.8571429
... A37: 30 | B37: GORNJI GRAD | C37: 113 | D37: 4 | E37: 0.083385449 | F37: 3.539823
A38: 31 | B38: GORNJI PETROVCI | C38: 48 | D38: - | E38: - | F38: -
A39: 32 | B39: GROSUPLJE | C39: 1291 | D39: 62 | E39: 1.2924745 | F39: 4.8024787
A40: 33 | B40: ŠALOVCI | C40: 28 | D40: - | E40: - | F40: -
A41: 34 | B41: HRASTNIK | C41: 254 | D41: 9 | E41: 0.18761726 | F41: 3.5433071
A42: 35 | B42: HRPELJE-KOZINA | C42: 312 | D42: 12 | E42: 0.25015635 | F42: 3.8461538
A43: 36 | B43: IDRIJA | C43: 522 | D43: 24 | E43: 0.5003127 | F43: 4.5977011
A44: 37 | B44: IG | C44: 413 | D44: 10 | E44: 0.20846362 | F44: 2.4213075
A45: 38 | B45: ILIRSKA BISTRICA | C45: 619 | D45: 17 | E45: 0.35438816 | F45: 2.7463651
A46: 39 | B46: IVANČNA GORICA | C46: 930 | D46: 35 | E46: 0.72962268 | F46: 3.7634409
A47: 40 | B47: IZOLA | C47: 1387 | D47: 31 | E47: 0.64623723 | F47: 2.2350397
A48: 41 | B48: JESENICE | C48: 684 | D48: 18 | E48: 0.37523452 | F48: 2.6315789
A49: 42 | B49: JURŠINCI | C49: 70 | D49: - | E49: - | F49: -
A50: 43 | B50: KAMNIK | C50: 1799 | D50: 72 | E50: 1.5009381 | F50: 4.0022235
A51: 44 | B51: KANAL | C51: 158 | D51: 6 | E51: 0.12507817 | F51: 3.7974684
A52: 45 | B52: KIDRIČEVO | C52: 280 | D52: 10 | E52: 0.20846362 | F52: 3.5714286
A53: 46 | B53: KOBARID | C53: 194 | D53: 8 | E53: 0.1667709 | F53: 4.1237113
A54: 47 | B54: KOBILJE | C54: 11 | D54: - | E54: - | F54: -
A55: 48 | B55: KOČEVJE | C55: 538 | D55: 14 | E55: 0.29184907 | F55: 2.6022305
A56: 49 | B56: KOMEN | C56: 179 | D56: 8 | E56: 0.1667709 | F56: 4.4692737
A57: 50 | B57: KOPER | C57: 3725 | D57: 149 | E57: 3.106108 | F57: 4
A58: 51 | B58: KOZJE | C58: 123 | D58: 3 | E58: 0.062539087 | F58: 2.4390244
A59: 52 | B59: KRANJ | C59: 3300 | D59: 108 | E59: 2.2514071 | F59: 3.2727273
A60: 53 | B60: KRANJSKA GORA | C60: 276 | D60: 18 | E60: 0.37523452 | F60: 6.5217391
...

Sheet poslovanje HRP v letu 2025
A2: ='kriteriji izločitve'!A2 -> Datum: 28. 10. 2026
A4: PODATKI O POSLOVANJU HITRO RASTOČIH PODJETIJ V LETU 2025
A6: Pomembnejši podatki (zneski v tisoč EUR) | B6: podatki iz letnih poročil vseh podjetij za leto 2025 | C6: podatki iz letnih poročil HRP za leto 2025 | D6: delež v %
B7: a | C7: b | D7: (b/a)
A8: Število podjetij | B8: 125917 | C8: 4797 | D8: 3.8096524
A9: Kapital | B9: 78001436 | C9: 10027574 | D9: 12.855627
A10: Sredstva | B10: 1.4917193e+08 | C10: 21516919 | D10: 14.424241
A11: Dolgoročne in kratkoročne obveznosti | B11: 71170494 | C11: 11489344 | D11: 16.14341
A12: Finančne obveznosti | B12: 34738814 | C12: 4734956.2 | D12: 13.630161
A13: Prihodki | B13: 1.504742e+08 | C13: 30173971 | D13: 20.052588
A14: Čisti prihodki od prodaje | B14: 1.4492174e+08 | C14: 29515813 | D14: 20.366726
A15: Neto dobiček iz poslovanja (EBIT) | B15: 8102947.4 | C15: 2241737.6 | D15: 27.665706
A16: Neto denarni tok iz poslovanja (EBITDA) | B16: 14481524 | C16: 3246723.7 | D16: 22.419765
A17: Stroški plač | B17: 16293217 | C17: 2957255.6 | D17: 18.150225
A18: Število zaposlenih | B18: 564581.86 | C18: 95100.86 | D18: 16.844477
A19: Davek iz dobička | B19: 1570353.7 | C19: 403521 | D19: 25.696186
... A21: Neto dodana vrednost | B21: 37188106 | C21: 7330072.6 | D21: 19.710798
A23: EBIT je dobiček iz poslovanja, zmanjšan za izgubo iz poslovanja.
A24: EBITDA je dobiček iz poslovanja, zmanjšan za izgubo iz poslovanja ter povečan za amortizacijo in odpise vrednosti.
A25: Neto dodana vrednost je dodana vrednost, zmanjšana za izgubo na substanci.
A28: PRIMERJAVA POSLOVANJA MED HITRO RASTOČIMI PODJETJI IN OSTALIMI PODJETJI V LETU 2025

Sheet SEZNAM HRP 2021-2025
A2: ='kriteriji izločitve'!A2 -> Datum: 28. 10. 2026
A4: SEZNAM HITRO RASTOČNIH PODJETIJ V OBDOBJU 2021-2025
I6: Podatki iz letnih poročil za leto 2025 (v EUR)
A7: Matična številka | B7: Davčna številka | C7: Dejavnost SKD | D7: Regija | E7: Občina | F7: Pravno-organizacijska oblika | G7: Velikost | H7: Leto vpisa v register | I7: Naziv | J7: Ulica | K7: Poštna številka | L7: Kraj | M7: Kapital/ Podjetnikov kapital | N7: Sredstva | O7: Dolgoročne in kratkoročne obveznosti | P7: Finančne obveznosti | Q7: Prihodki | R7: Čisti prihodki od prodaje | S7: Dobiček ali izguba iz poslovanja (EBIT)1 | T7: Denarni tok iz poslovanja (EBITDA)2 | U7: Stroški plač | V7: Število zaposlenih | W7: Davek iz dobička | X7: Čisti dobiček / čista izguba Podjetnikov dohodek / negativni poslovni izid | Y7: Dodana vrednost ali izguba na substanci
A8: 1003194000 | B8: 32624417 | C8: H | D8: 12 | E8: 050 | F8: 142 | G8: 1 | H8: 1998 | I8: AVTOPREVOZNIŠTVO SAŠO FERLEŽ S.P. | J8: Hrvatini 157 | K8: 6280 | L8: Ankaran - Ancarano | M8: 1033160 | N8: 1067135 | O8: 33975 | P8: 25671 | Q8: 259096 | R8: 251787 | S8: 86 | T8: 107576 | U8: 25128 | V8: 2.5 | X8: 4518 | Y8: 144857
A9: 1029231000 | B9: 80162690 | C9: H | D9: 08 | E9: 064 | F9: 142 | G9: 1 | H9: 1997 | I9: PREVOZI IN TRGOVINA ŽIBERT ŽIBERT MILAN S.P. | J9: Petkovec 13 | K9: 1373 | L9: Rovte | M9: 316599 | N9: 544092 | O9: 227494 | P9: 180000 | Q9: 687228 | R9: 657472 | S9: 79448 | T9: 156465 | U9: 61785 | V9: 3.02 | X9: 77104 | Y9: 278123
A10: 1036351000 | B10: 34208585 | C10: H | D10: 08 | E10: 061 | F10: 142 | G10: 2 | H10: 1998 | I10: AVTOPREVOZNIŠTVO, STANISLAV KERMAVNER, S.P. | J10: Polje, cesta VI 22 | K10: 1260 | L10: Ljubljana - Polje | M10: 359894 | N10: 572977 | O10: 213083 | P10: 116348 | Q10: 1055688 | R10: 1020743 | S10: 31020 | T10: 114065 | U10: 288912 | V10: 10.33 | X10: 34698 | Y10: 514923
A11: 1043609000 | B11: 57832633 | C11: H | D11: 06 | E11: 009 | F11: 142 | G11: 2 | H11: 1998 | I11: TURISTIČNI PREVOZI LABUS - LAPUH JOŽE, S.P. | J11: Cesta bratov Cerjakov 2 | K11: 8250 | L11: Brežice | M11: 420759 | N11: 1287955 | O11: 867196 | P11: 60144 | Q11: 1028548 | R11: 933208 | S11: 11913 | T11: 154134 | U11: 53391 | V11: 2.77 | X11: 60644 | Y11: 225169
A12: 1053965000 | B12: 78031958 | C12: C | D12: 11 | E12: 001 | F12: 142 | G12: 1 | H12: 1998 | I12: KOVINARSTVO DAVID LIKAR S.P. | J12: Otlica 49 | K12: 5270 | L12: Ajdovščina | M12: 260999 | N12: 311111 | O12: 50112 | P12: 4999 | Q12: 340943 | R12: 340809 | S12: 67268 | T12: 102424 | U12: 20955 | V12: 1.27 | X12: 66795 | Y12: 133534
A13: 1056379000 | B13: 48256161 | C13: N | D13: 04 | E13: 011 | F13: 142 | G13: 1 | H13: 1997 | I13: BOJ STORITVE IN SVETOVANJE BOŽIDAR JURKO S.P. | J13: Smrekarjeva ulica 1 | K13: 3000 | L13: Celje | M13: 89001 | N13: 165505 | O13: 76504 | P13: 48475 | Q13: 260595 | R13: 255511 | S13: 16909 | T13: 42062 | U13: 91407 | V13: 3 | X13: 14983 | Y13: 163661
A14: 1058754000 | B14: 45255270 | C14: A | D14: 07 | E14: 017 | F14: 103 | G14: 2 | H14: 1997 | I14: LESNIKA GOZDARSTVO D.O.O. | J14: Petrova vas 23 | K14: 8340 | L14: Črnomelj | M14: 2107783 | N14: 6962909 | O14: 4855126 | P14: 3457857 | Q14: 7289850 | R14: 6920522 | S14: 281926 | T14: 1063532 | U14: 360539 | V14: 18.35 | W14: 16633 | X14: 175812 | Y14: 1579571
A15: 1073672000 | B15: 43688403 | C15: F | D15: 06 | E15: 054 | F15: 142 | G15: 1 | H15: 1997 | I15: GRADBENA MEHANIZACIJA DAMJAN KOSOVAN S.P. | J15: Jelše 9 | K15: 8273 | L15: Leskovec pri Krškem | M15: 149082 | N15: 390622 | O15: 241540 | P15: 154122 | Q15: 454426 | R15: 454422 | S15: 32936 | T15: 113510 | U15: 86740 | V15: 4.75 | X15: 19721 | Y15: 252827
A16: 1074857000 | B16: 39167208 | C16: L | D16: 02 | E16: 058 | F16: 142 | G16: 1 | H16: 1997 | I16: ZAVAROVALNI ZASTOPNIK, MARKO HAFNER S.P. | J16: Trg osvoboditve 15 | K16: 2230 | L16: Lenart v Slov. goricah | M16: 161542 | N16: 188957 | O16: 27415 | P16: 0 | Q16: 433632 | R16: 433632 | S16: 174951 | T16: 179224 | U16: 108014 | V16: 3 | X16: 138089 | Y16: 324427
A17: 1078623000 | B17: 63033666 | C17: H | D17: 08 | E17: 061 | F17: 142 | G17: 2 | H17: 1997 | I17: AVTOPREVOZNIŠTVO, TRGOVINA IN STORITVE, VINKO TURŠIČ S.P. | J17: Dajnkova ulica 4 | K17: 1000 | L17: Ljubljana | M17: 522650 | N17: 754627 | O17: 231977 | P17: 93164 | Q17: 1924722 | R17: 1912388 | S17: 370205 | T17: 514821 | U17: 358579 | V17: 16.01 | X17: 355703 | Y17: 1028359
A18: 1102346000 | B18: 86427750 | C18: H | D18: 04 | E18: 144 | F18: 142 | G18: 2 | H18: 1998 | I18: AVTOPREVOZNIŠTVO BRANKO PODGRAJŠEK S.P. | J18: Loška gora pri Zrečah 20 | K18: 3214 | L18: Zreče | M18: 1522893 | N18: 1774903 | O18: 252010 | P18: 48357 | Q18: 2706792 | R18: 2637142 | S18: 185593 | T18: 373165 | U18: 328017 | V18: 11 | X18: 189052 | Y18: 794008
A19: 1102737000 | B19: 54441021 | C19: F | D19: 04 | E19: 144 | F19: 142 | G19: 1 | H19: 1998 | I19: VODOVOD - KLEPARSTVO IN GOSTINSTVO JURIJ PETELINEK S.P. | J19: Cesta na Roglo 20A | K19: 3214 | L19: Zreče | M19: 310012 | N19: 365386 | O19: 55374 | P19: 0 | Q19: 623069 | R19: 594927 | S19: 59359 | T19: 102140 | U19: 190606 | V19: 7 | X19: 59846 | Y19: 358540
A20: 1103563000 | B20: 85775576 | C20: H | D20: 04 | E20: 120 | F20: 142 | G20: 1 | H20: 1998 | I20: AVTOPREVOZNIŠTVO VENIŠNIK NENAD S.P. | J20: Ulica Tončke Čečeve 11 | K20: 3230 | L20: Šentjur | M20: 173312 | N20: 277026 | O20: 103714 | P20: 0 | Q20: 372591 | R20: 369618 | S20: 64026 | T20: 86693 | U20: 39988 | V20: 2.38 | X20: 64876 | Y20: 148918
A21: 1103636000 | B21: 71884351 | C21: H | D21: 04 | E21: 154 | F21: 142 | G21: 1 | H21: 1997 | I21: AVTOPREVOZNIŠTVO IN AVTOMEHANIKA JANKO PUŠNIK S.P. | J21: Večje Brdo 18 | K21: 3224 | L21: Dobje pri Planini | M21: 240206 | N21: 347484 | O21: 107278 | P21: 78735 | Q21: 376999 | R21: 357784 | S21: 31085 | T21: 82215 | U21: 53006 | V21: 3 | X21: 27024 | Y21: 167475
A22: 1103822000 | B22: 68647042 | C22: I | D22: 04 | E22: 120 | F22: 142 | G22: 2 | H22: 1998 | I22: GOSTIŠČE MARJAN BOHORČ S.P. | J22: Ulica Dušana Kvedra 44 | K22: 3230 | L22: Šentjur | M22: 649822 | N22: 1423705 | O22: 773882 | P22: 570600 | Q22: 1264179 | R22: 1242002 | S22: 149585 | T22: 214390 | U22: 177742 | V22: 9.61 | X22: 119223 | Y22: 467160
A23: 1104101000 | B23: 93605528 | C23: H | D23: 04 | E23: 120 | F23: 142 | G23: 1 | H23: 1998 | I23: IZKOPI IN PREVOZI SIMON GROBIN S.P. | J23: Loka pri Žusmu 23 | K23: 3223 | L23: Loka pri Žusmu | M23: 405641 | N23: 497602 | O23: 91961 | P23: 39420 | Q23: 440136 | R23: 439255 | S23: 32947 | T23: 95884 | U23: 34145 | V23: 1.92 | X23: 29796 | Y23: 147617
A24: 1105086000 | B24: 25703293 | C24: F | D24: 09 | E24: 122 | F24: 103 | G24: 1 | H24: 1998 | I24: KLIMA KALAN, TRGOVINA, MONTAŽA IN SERVIS HLADILNIH TER KLIMA NAPRAV, D.O.O. | J24: Stara Loka 95A | K24: 4220 | L24: Škofja Loka | M24: 190281 | N24: 299662 | O24: 109381 | P24: 74159 | Q24: 635085 | R24: 631650 | S24: 27093 | T24: 57807 | U24: 118188 | V24: 3.67 | W24: 3720 | X24: 23902 | Y24: 214021
A25: 1105922000 | B25: 31059546 | C25: H | D25: 11 | E25: 128 | F25: 142 | G25: 2 | H25: 1997 | I25: AVTOPREVOZNIŠTVO IN STORITVE S TGM VLADIMIR JEKLIN S.P. | J25: Žabče 35A | K25: 5220 | L25: Tolmin | M25: 967472 | N25: 1690778 | O25: 723306 | P25: 91988 | Q25: 3718007 | R25: 3712776 | S25: 190176 | T25: 409971 | U25: 212614 | V25: 6.95 | X25: 184086 | Y25: 705067
A26: 1108565000 | B26: 87657627 | C26: F | D26: 07 | E26: 130 | F26: 142 | G26: 1 | H26: 1999 | I26: ELEKTROINŠTALACIJE ANDREJ BOBNAR S.P. | J26: Vina Gorica 21 | K26: 8210 | L26: Trebnje | M26: 60039 | N26: 147135 | O26: 87097 | P26: 40000 | Q26: 392592 | R26: 391539 | S26: 74097 | T26: 100148 | U26: 43055 | V26: 2 | X26: 72111 | Y26: 160271
A27: 1108590000 | B27: 45994102 | C27: H | D27: 07 | E27: 130 | F27: 142 | G27: 1 | H27: 1998 | I27: AVTOPREVOZNIŠTVO BOŠTJAN SLAK S.P. | J27: Gorenje Ponikve 32 | K27: 8210 | L27: Trebnje | M27: 91295 | N27: 117343 | O27: 26048 | P27: 0 | Q27: 211271 | R27: 208937 | S27: 21138 | T27: 37742 | U27: 31706 | V27: 1 | X27: 20807 | Y27: 79733
A28: 1121499000 | B28: 26139286 | C28: G | D28: 09 | E28: 131 | F28: 103 | G28: 4 | H28: 1997 | I28: KVIBO, D.O.O. | J28: Mlaka 2A | K28: 4290 | L28: Tržič | M28: 20025413 | N28: 35163610 | O28: 15138197 | P28: 5043465 | Q28: 102779026 | R28: 102549333 | S28: 5205061 | T28: 6867316 | U28: 8052082 | V28: 232.68 | W28: 1064653 | X28: 4092686 | Y28: 17324720
A29: 1121677000 | B29: 77543084 | C29: C | D29: 01 | E29: 029 | F29: 103 | G29: 3 | H29: 1997 | I29: ROSENBAUER, D.O.O. | J29: Ljutomerska cesta 6 | K29: 9250 | L29: Gornja Radgona | M29: 12497444 | N29: 30442055 | O29: 17944611 | P29: 8592119 | Q29: 58991347 | R29: 58511078 | S29: 2268327 | T29: 3024207 | U29: 7981847 | V29: 245.68 | W29: 297746 | X29: 1601473 | Y29: 13050844
A30: 1123955000 | B30: 91391270 | C30: I | D30: 08 | E30: 043 | F30: 103 | G30: 2 | H30: 1997 | I30: NANKING GOSTINSTVO, TURIZEM IN TRGOVINA D.O.O. | J30: Jamova ulica 12 | K30: 1241 | L30: Kamnik | M30: 1788169 | N30: 2505887 | O30: 717718 | P30: 321026 | Q30: 2073128 | R30: 2053420 | S30: 321845 | T30: 420982 | U30: 470914 | V30: 23.58 | W30: 69288 | X30: 250462 | Y30: 1084776
A31: 1124021000 | B31: 43003869 | C31: O | D31: 08 | E31: 061 | F31: 103 | G31: 1 | H31: 1996 | I31: TEATER DRUŽBA ZA UMETNIŠKO USTVARJANJE, D.O.O. | J31: Črna vas 240 | K31: 1000 | L31: Ljubljana | M31: 247121 | N31: 311886 | O31: 64765 | P31: 18889 | Q31: 807721 | R31: 802123 | S31: 36024 | T31: 46821 | U31: 127078 | V31: 3 | W31: 10083 | X31: 31092 | Y31: 207569
A32: 1124196000 | B32: 11443367 | C32: N | D32: 08 | E32: 061 | F32: 103 | G32: 1 | H32: 1997 | I32: SPATIO PODJETJE ZA PROJEKTIRANJE, INŽENIRING IN TRGOVINO, D.O.O., LJUBLJANA | J32: Resljeva cesta 22 | K32: 1000 | L32: Ljubljana | M32: 381091 | N32: 866011 | O32: 484920 | P32: 47053 | Q32: 849182 | R32: 848936 | S32: 10849 | T32: 46965 | U32: 51417 | V32: 2 | W32: 1526 | X32: 4196 | Y32: 116326
A33: 1124773000 | B33: 57322503 | C33: G | D33: 08 | E33: 061 | F33: 103 | G33: 4 | H33: 1997 | I33: SCANIA SLOVENIJA D.O.O. | J33: Cesta v Gorice 28 | K33: 1000 | L33: Ljubljana | M33: 9248367 | N33: 36626692 | O33: 27378326 | P33: 5952768 | Q33: 130842397 | R33: 130399367 | S33: 6635932 | T33: 9338933 | U33: 5327040 | V33: 102.04 | W33: 1667892 | X33: 4609824 | Y33: 16155542
A34: 1124781000 | B34: 16132106 | C34: N | D34: 09 | E34: 117 | F34: 103 | G34: 2 | H34: 1997 | I34: HOPING DRUŽBA ZA PROJEKTIRANJE, INŽENIRING IN ZASTOPSTVA V INDUSTRIJSKI ENERGETIKI D.O.O. | J34: Poslovna cona A 19 | K34: 4208 | L34: Šenčur | M34: 631959 | N34: 2100521 | O34: 1468562 | P34: 108885 | Q34: 3848917 | R34: 3848911 | S34: 650625 | T34: 667390 | U34: 254431 | V34: 5.56 | W34: 131198 | X34: 515167 | Y34: 1000165
A35: 1124919000 | B35: 43949380 | C35: N | D35: 08 | E35: 022 | F35: 103 | G35: 1 | H35: 1997 | I35: ZADRAVEC KNJIGOVODSKE IN RAČUNOVODSKE STORITVE D.O.O. | J35: Kamnica 50 | K35: 1262 | L35: Dol pri Ljubljani | M35: 247504 | N35: 333330 | O35: 85826 | P35: 43389 | Q35: 490711 | R35: 489457 | S35: 24786 | T35: 40076 | U35: 250816 | V35: 8.01 | W35: 5830 | X35: 18208 | Y35: 376166
A36: 1125281000 | B36: 30412404 | C36: H | D36: 08 | E36: 023 | F36: 103 | G36: 2 | H36: 1997 | I36: TAVNA TRANS DRUŽBA ZA TRANSPORT IN ŠPEDICIJO D.O.O. | J36: Ljubljanska cesta 80 | K36: 1230 | L36: Domžale | M36: 496306 | N36: 1090519 | O36: 594213 | P36: 411012 | Q36: 1301238 | R36: 1292538 | S36: 86590 | T36: 219476 | U36: 148963 | V36: 9.05 | W36: 6051 | X36: 68261 | Y36: 418058
A37: 1189298000 | B37: 46014365 | C37: N | D37: 02 | E37: 070 | F37: 103 | G37: 2 | H37: 1997 | I37: DEUTZ ENGINEERING DRUŽBA ZA PROJEKTIRANJE IN TRGOVINO D.O.O. | J37: Pobreška cesta 20 | K37: 2000 | L37: Maribor | M37: 939782 | N37: 1259882 | O37: 320101 | P37: 333 | Q37: 3346814 | R37: 3328438 | S37: 134540 | T37: 221277 | U37: 1845607 | V37: 45.54 | W37: 11222 | X37: 123313 | Y37: 2644663
A38: 1189484000 | B38: 86145398 | C38: C | D38: 02 | E38: 118 | F38: 103 | G38: 3 | H38: 1997 | I38: PALOMA PIS D.O.O. | J38: Sladki Vrh 1 | K38: 2214 | L38: Sladki Vrh | M38: 2219962 | N38: 89126807 | O38: 86906844 | P38: 70365497 | Q38: 10392021 | R38: 9923251 | S38: 1772814 | T38: 4256246 | U38: 3037232 | V38: 114.01 | W38: 139805 | X38: 1556550 | Y38: 8517322
A39: 1189522000 | B39: 82765456 | C39: I | D39: 12 | E39: 111 | F39: 103 | G39: 2 | H39: 1997 | I39: TIM INTERNATIONAL, TRGOVINA IN STORITVE, D.O.O. | J39: Križ 263 | K39: 6210 | L39: Sežana | M39: 1251833 | N39: 1631996 | O39: 380162 | P39: 130448 | Q39: 3789699 | R39: 3789699 | S39: 315052 | T39: 348760 | U39: 771239 | V39: 29.45 | W39: 68359 | X39: 242364 | Y39: 1539882
... A62: 1215701000 | B62: 16234227 | C62: R | D62: 08 | E62: 061 | F62: 103 | G62: 1 | H62: 1997 | I62: MEDILASE, ZASEBNA ZDRAVSTVENA AMBULANTA, D.O.O. | J62: Tbilisijska ulica 59 | K62: 1000 | L62: Ljubljana | M62: 671645 | N62: 763978 | O62: 92332 | P62: 0 | Q62: 757185 | R62: 747978 | S62: 140494 | T62: 199793 | U62: 133157 | V62: 4.6 | W62: 18409 | X62: 122945 | Y62: 375114
A63: 1219421000 | B63: 74467638 | C63: H | D63: 02 | E63: 196 | F63: 142 | G63: 1 | H63: 1998 | I63: RAKUŠ DARKO S.P. AVTOPREVOZNIŠTVO | J63: Medribnik 15B | K63: 2282 | L63: Cirkulane | M63: 455842 | N63: 496629 | O63: 40787 | P63: 0 | Q63: 297854 | R63: 294248 | S63: 29202 | T63: 72200 | U63: 33636 | V63: 2 | X63: 27960 | Y63: 119737
A64: 1222031000 | B64: 36758353 | C64: G | D64: 04 | E64: 106 | F64: 142 | G64: 2 | H64: 1999 | I64: TRGOVINA Z LESOM, PREVOZNIŠTVO, GOZDARSTVO ALEKSANDER ŠKET S.P. | J64: Irje 3D | K64: 3250 | L64: Rogaška Slatina | M64: 1206268 | N64: 1519155 | O64: 312887 | P64: 186952 | Q64: 1868663 | R64: 1868663 | S64: 54417 | T64: 142819 | U64: 122900 | V64: 4 | X64: 54417 | Y64: 364783
A65: 1223488000 | B65: 79666264 | C65: C | D65: 02 | E65: 113 | F65: 142 | G65: 2 | H65: 1999 | I65: EETI,ELEKTROMEHANIKA ZA TT NAPRAVE, MONTAŽA ANTEN IN NOSILCEV,ELEKTROENERGETSKI IN VARSTVENOTEHNIČNI INŽENIRING,IZGRADNJA,PREGLED,VZDRŽEVANJE IN UPRAVLJANJE ELEKTROENERGETSKIH SISTEMOV, JANEZ ING.JAVŠOVEC S.P. | J65: Cigonca 73 | K65: 2310 | L65: Slovenska Bistrica | M65: 1598363 | N65: 2568118 | O65: 969754 | P65: 0 | Q65: 2428124 | R65: 2419277 | S65: 18229 | T65: 210361 | U65: 249193 | V65: 9.16 | X65: 9396 | Y65: 558271
...

Sheet Pomen oznak na seznamu
A2: POMEN OZNAK NA SEZNAMU HITRO RASTOČIH PODJETIJ 2021-2025
A4: Polje: Regija
A6: šifra | B6: regija
A7: 1 | B7: POMURSKA
A8: 2 | B8: PODRAVSKA
A9: 3 | B9: KOROŠKA
A10: 4 | B10: SAVINJSKA
A11: 5 | B11: ZASAVSKA
A12: 6 | B12: POSAVSKA
A13: 7 | B13: JUGOVZHODNA SLOVENIJA
A14: 8 | B14: OSREDNJESLOVENSKA
A15: 9 | B15: GORENJSKA
A16: 10 | B16: PRIMORSKO-NOTRANJSKA
A17: 11 | B17: GORIŠKA
A18: 12 | B18: OBALNO-KRAŠKA
A21: Polje: Velikost
A23: šifra | B23: velikost
A24: 1 | B24: MIKRO
A25: 2 | B25: MAJHNA
A26: 3 | B26: SREDNJA
A27: 4 | B27: VELIKA
A30: Polje: Pravno-organizacijska oblika
A32: šifra | B32: pravno-organizacijska oblika
A33: 101 | B33: Družba z neomejeno odgovornostjo
A34: 102 | B34: Komanditna družba
A35: 103 | B35: Družba z omejeno odgovornostjo
A36: 104 | B36: Delniška družba
A37: 108 | B37: Gospodarsko interesno združenje GIZ
A38: 141 | B38: Podružnica tujega podjetja
A39: 142 | B39: Samostojni podjetnik posameznik
A40: 352 | B40: Javni gospodarski zavod
A43: Polje: Dejavnost
A45: oznaka | B45: dejavnost
A46: A | B46: KMETIJSTVO IN LOV, GOZDARSTVO, RIBIŠTVO
A47: B | B47: RUDARSTVO
A48: C | B48: PREDELOVALNE DEJAVNOSTI
A49: D | B49: OSKRBA Z ELEKTRIČNO ENERGIJO, PLINOM, PARO IN HLADNIM ZRAKOM
A50: E | B50: OSKRBA Z VODO, RAVNANJE Z ODPLAKAMI IN ODPADKI, SANIRANJE OKOLJA
A51: F | B51: GRADBENIŠTVO
A52: G | B52: TRGOVINA
...

Sheet List1
A1: Občina
A2: 001
A3: 002
A4: 003
A5: 004
A6: 005
A7: 006
A8: 007
A9: 008
A10: 009
A11: 010
A12: 011
... A198: Skupna vsota
